BEGIN:VCALENDAR
VERSION:2.0
PRODID:-//Ecole Notre-Dame de Lourdes - ECPv6.15.20//NONSGML v1.0//EN
CALSCALE:GREGORIAN
METHOD:PUBLISH
X-WR-CALNAME:Ecole Notre-Dame de Lourdes
X-ORIGINAL-URL:https://notredamedelourdes.be
X-WR-CALDESC:Évènements pour Ecole Notre-Dame de Lourdes
REFRESH-INTERVAL;VALUE=DURATION:PT1H
X-Robots-Tag:noindex
X-PUBLISHED-TTL:PT1H
BEGIN:VTIMEZONE
TZID:Europe/Brussels
BEGIN:DAYLIGHT
TZOFFSETFROM:+0100
TZOFFSETTO:+0200
TZNAME:CEST
DTSTART:20240331T010000
END:DAYLIGHT
BEGIN:STANDARD
TZOFFSETFROM:+0200
TZOFFSETTO:+0100
TZNAME:CET
DTSTART:20241027T010000
END:STANDARD
BEGIN:DAYLIGHT
TZOFFSETFROM:+0100
TZOFFSETTO:+0200
TZNAME:CEST
DTSTART:20250330T010000
END:DAYLIGHT
BEGIN:STANDARD
TZOFFSETFROM:+0200
TZOFFSETTO:+0100
TZNAME:CET
DTSTART:20251026T010000
END:STANDARD
BEGIN:DAYLIGHT
TZOFFSETFROM:+0100
TZOFFSETTO:+0200
TZNAME:CEST
DTSTART:20260329T010000
END:DAYLIGHT
BEGIN:STANDARD
TZOFFSETFROM:+0200
TZOFFSETTO:+0100
TZNAME:CET
DTSTART:20261025T010000
END:STANDARD
END:VTIMEZONE
BEGIN:VEVENT
DTSTART;VALUE=DATE:20251018
DTEND;VALUE=DATE:20251103
DTSTAMP:20260420T152750
CREATED:20250825T124509Z
LAST-MODIFIED:20250825T124509Z
UID:10000134-1760745600-1762127999@notredamedelourdes.be
SUMMARY:Congé de Toussaint
DESCRIPTION:
URL:https://notredamedelourdes.be/event/conge-de-toussaint/
CATEGORIES:Congés
END:VEVENT
BEGIN:VEVENT
DTSTART;VALUE=DATE:20251111
DTEND;VALUE=DATE:20251112
DTSTAMP:20260420T152750
CREATED:20250825T124602Z
LAST-MODIFIED:20250825T124602Z
UID:10000135-1762819200-1762905599@notredamedelourdes.be
SUMMARY:Armistice
DESCRIPTION:
URL:https://notredamedelourdes.be/event/armistice/
CATEGORIES:Congés
END:VEVENT
END:VCALENDAR